BEGIN:VCALENDAR
VERSION:2.0
PRODID:-//Stonebridge Golf Club - Ann Arbor, MI - ECPv6.15.20//NONSGML v1.0//EN
CALSCALE:GREGORIAN
METHOD:PUBLISH
X-ORIGINAL-URL:https://stonebridge.golf
X-WR-CALDESC:Events for Stonebridge Golf Club - Ann Arbor, MI
REFRESH-INTERVAL;VALUE=DURATION:PT1H
X-Robots-Tag:noindex
X-PUBLISHED-TTL:PT1H
BEGIN:VTIMEZONE
TZID:America/New_York
BEGIN:DAYLIGHT
TZOFFSETFROM:-0500
TZOFFSETTO:-0400
TZNAME:EDT
DTSTART:20250309T070000
END:DAYLIGHT
BEGIN:STANDARD
TZOFFSETFROM:-0400
TZOFFSETTO:-0500
TZNAME:EST
DTSTART:20251102T060000
END:STANDARD
BEGIN:DAYLIGHT
TZOFFSETFROM:-0500
TZOFFSETTO:-0400
TZNAME:EDT
DTSTART:20260308T070000
END:DAYLIGHT
BEGIN:STANDARD
TZOFFSETFROM:-0400
TZOFFSETTO:-0500
TZNAME:EST
DTSTART:20261101T060000
END:STANDARD
BEGIN:DAYLIGHT
TZOFFSETFROM:-0500
TZOFFSETTO:-0400
TZNAME:EDT
DTSTART:20270314T070000
END:DAYLIGHT
BEGIN:STANDARD
TZOFFSETFROM:-0400
TZOFFSETTO:-0500
TZNAME:EST
DTSTART:20271107T060000
END:STANDARD
END:VTIMEZONE
BEGIN:VEVENT
DTSTART;TZID=America/New_York:20260629T090000
DTEND;TZID=America/New_York:20260629T120000
DTSTAMP:20260419T080044
CREATED:20260130T220023Z
LAST-MODIFIED:20260416T211640Z
UID:10000051-1782723600-1782734400@stonebridge.golf
SUMMARY:Half Day Junior Camp
DESCRIPTION:Half Day Junior Camp\nhttps://letsgolfmore.corsizio.com/event/697ced3fae77b6845d398036
URL:https://stonebridge.golf/event/half-day-junior-camp-golf-event-2/
CATEGORIES:Lessons & Clinics,Public Golf Events
END:VEVENT
BEGIN:VEVENT
DTSTART;TZID=America/New_York:20260629T193000
DTEND;TZID=America/New_York:20260629T203000
DTSTAMP:20260419T080044
CREATED:20260207T190110Z
LAST-MODIFIED:20260416T211640Z
UID:10000090-1782761400-1782765000@stonebridge.golf
SUMMARY:Women's Intermediate Golf Clinic
DESCRIPTION:Women’s Intermediate Golf Clinic\nhttps://letsgolfmore.corsizio.com/event/698641b8925f93b246af5d77
URL:https://stonebridge.golf/event/womens-intermediate-golf-clinic-golf-event-4/
CATEGORIES:Lessons & Clinics,Public Golf Events
END:VEVENT
END:VCALENDAR